BEGIN:VCALENDAR
VERSION:2.0
PRODID:GlueUp
CALSCALE:GREGORIAN
BEGIN:VTIMEZONE
TZID:UTC
BEGIN:STANDARD
DTSTART:19700101T000000
TZOFFSETFROM:+0000
TZOFFSETTO:+0000
TZNAME:UTC
END:STANDARD
END:VTIMEZONE
BEGIN:VEVENT
TZ:+00
ORGANIZER;CN=Yoyo Wu:MAILTO:ywu@amchamchina.org
UID:42378-1776721101@https://amcham.glueup.cn
DTSTAMP:20260420T213821Z
DTSTART:20231207T013000Z
DTEND:20231207T030000Z
SUMMARY:In-Person (CN) | Explore the Cambridge Residence with Knight Frank [M2M Event]
DESCRIPTION:AmCham China发布活动In-Person (CN) | Explore the Cambridge Residence with Knight Frank [M2M Event]\n\n2023年12月07日（上午 9:30 - 上午 11:00）(GMT+8)\n\n更多信息，访问https://amcham.glueup.cn/my/events/42378
LOCATION:AmCham China Washington Room - 中国北京市朝阳区工体北路甲2号， 盈科中心4号门3层。
BEGIN:VALARM
TRIGGER:-PT48H
REPEAT:4
DURATION:PT30M
ACTION:DISPLAY
END:VALARM
END:VEVENT
END:VCALENDAR