BEGIN:VCALENDAR
VERSION:2.0
PRODID:GlueUp
CALSCALE:GREGORIAN
BEGIN:VTIMEZONE
TZID:UTC
BEGIN:STANDARD
DTSTART:19700101T000000
TZOFFSETFROM:+0000
TZOFFSETTO:+0000
TZNAME:UTC
END:STANDARD
END:VTIMEZONE
BEGIN:VEVENT
TZ:+00
ORGANIZER;CN=Wei Wei:MAILTO:wwei@amchamchina.org
UID:42279-1776733179@https://amcham.glueup.cn
DTSTAMP:20260421T005939Z
DTSTART:20231122T234500Z
DTEND:20231123T013000Z
SUMMARY:Chengdu | Executive Breakfast Briefing — 2024 American Business in China White Paper Brainstorming Session
DESCRIPTION:Chengdu | Executive Breakfast Briefing — 2024 American Business in China White Paper Brainstorming Session by AmCham China\n\nNov 23, 2023 (7:45 AM - 9:30 AM)(GMT+8)\n\nFor more information, click here: https://amcham.glueup.cn/my/events/42279
LOCATION:Fairmont Chengdu 成都棕榈泉费尔蒙酒店 - 269 Tianfu Middle Avenue,Hi-Tech Zone - Chengdu - China - 610041 - 成都市高新区天府大道中段269号 Chengdu - Wuhou District - China
BEGIN:VALARM
TRIGGER:-PT48H
REPEAT:4
DURATION:PT30M
ACTION:DISPLAY
END:VALARM
END:VEVENT
END:VCALENDAR