BEGIN:VCALENDAR
VERSION:2.0
PRODID:GlueUp
CALSCALE:GREGORIAN
BEGIN:VTIMEZONE
TZID:UTC
BEGIN:STANDARD
DTSTART:19700101T000000
TZOFFSETFROM:+0000
TZOFFSETTO:+0000
TZNAME:UTC
END:STANDARD
END:VTIMEZONE
BEGIN:VEVENT
TZ:+00
ORGANIZER;CN=Alice Xin:MAILTO:axin@amchamchina.org
UID:42207-1776733242@https://amcham.glueup.cn
DTSTAMP:20260421T010042Z
DTSTART:20231121T053000Z
DTEND:20231121T070000Z
SUMMARY:Dalian | CEO Roundtable Series: Navigating Personal Effectiveness, Diversity, and Complexity in Organizations
DESCRIPTION:Dalian | CEO Roundtable Series: Navigating Personal Effectiveness, Diversity, and Complexity in Organizations by AmCham China\n\nNov 21, 2023 (1:30 PM - 3:00 PM)(GMT+8)\n\nFor more information, click here: https://amcham.glueup.cn/my/events/42207
LOCATION:Albemarle Dalian - 大连市沙河口区软件园23号楼9层 Dalian - China
BEGIN:VALARM
TRIGGER:-PT48H
REPEAT:4
DURATION:PT30M
ACTION:DISPLAY
END:VALARM
END:VEVENT
END:VCALENDAR