BEGIN:VCALENDAR
VERSION:2.0
PRODID:GlueUp
CALSCALE:GREGORIAN
BEGIN:VTIMEZONE
TZID:UTC
BEGIN:STANDARD
DTSTART:19700101T000000
TZOFFSETFROM:+0000
TZOFFSETTO:+0000
TZNAME:UTC
END:STANDARD
END:VTIMEZONE
BEGIN:VEVENT
TZ:+00
ORGANIZER;CN=Alice Xin:MAILTO:axin@amchamchina.org
UID:42205-1776727389@https://amcham.glueup.cn
DTSTAMP:20260420T232309Z
DTSTART:20231122T040000Z
DTEND:20231122T060000Z
SUMMARY:Shenyang | Thanksgiving Luncheon and Networking Reception at the U.S. Consulate General Shenyang
DESCRIPTION:Shenyang | Thanksgiving Luncheon and Networking Reception at the U.S. Consulate General Shenyang by AmCham China\n\nNov 22, 2023 (12:00 PM - 2:00 PM)(GMT+8)\n\nFor more information, click here: https://amcham.glueup.cn/my/events/42205
LOCATION:US Consulate General Shenyang - 52 - 14th Wei Road - Heping District,110003 China Shenyang - Liaoning - China
BEGIN:VALARM
TRIGGER:-PT48H
REPEAT:4
DURATION:PT30M
ACTION:DISPLAY
END:VALARM
END:VEVENT
END:VCALENDAR