BEGIN:VCALENDAR
VERSION:2.0
PRODID:GlueUp
CALSCALE:GREGORIAN
BEGIN:VTIMEZONE
TZID:UTC
BEGIN:STANDARD
DTSTART:19700101T000000
TZOFFSETFROM:+0000
TZOFFSETTO:+0000
TZNAME:UTC
END:STANDARD
END:VTIMEZONE
BEGIN:VEVENT
TZ:+00
ORGANIZER;CN=Melody Wen:MAILTO:mwen@amchamchina.org
UID:42154-1776720190@https://amcham.glueup.cn
DTSTAMP:20260420T212310Z
DTSTART:20231201T013000Z
DTEND:20231201T043000Z
SUMMARY:In-Person Training (CN) | Charming People with Your Voice 声动人心——掌握发声技巧让职场表达事半功倍
DESCRIPTION:In-Person Training (CN) | Charming People with Your Voice 声动人心——掌握发声技巧让职场表达事半功倍 by AmCham China\n\nDec 1, 2023 (9:30 AM - 12:30 PM)(GMT+8)\n\nFor more information, click here: https://amcham.glueup.cn/my/events/42154
LOCATION:AmCham China Office - Floor 3 - Gate 4 - Pacific Century Place - 2A Workers' Stadium North Road - 北京市朝阳区工体北路甲2号， 盈科中心4号门3层。 Beijing - Chaoyang District - China
BEGIN:VALARM
TRIGGER:-PT48H
REPEAT:4
DURATION:PT30M
ACTION:DISPLAY
END:VALARM
END:VEVENT
END:VCALENDAR