BEGIN:VCALENDAR
VERSION:2.0
PRODID:GlueUp
CALSCALE:GREGORIAN
BEGIN:VTIMEZONE
TZID:UTC
BEGIN:STANDARD
DTSTART:19700101T000000
TZOFFSETFROM:+0000
TZOFFSETTO:+0000
TZNAME:UTC
END:STANDARD
END:VTIMEZONE
BEGIN:VEVENT
TZ:+00
ORGANIZER;CN=Christine Chen:MAILTO:christine.chen@amchamchina.org
UID:42134-1776727388@https://amcham.glueup.cn
DTSTAMP:20260420T232308Z
DTSTART:20231112T011500Z
DTEND:20231112T013000Z
SUMMARY:【SOLD OUT】Tianjin Historic Walking Tour – French and British Concessions of Tianjin’s Old Main Street
DESCRIPTION:【SOLD OUT】Tianjin Historic Walking Tour – French and British Concessions of Tianjin’s Old Main Street by AmCham China\n\nNov 12, 2023 (9:15 AM - 9:30 AM)(GMT+8)\n\nFor more information, click here: https://amcham.glueup.cn/my/events/42134
LOCATION:Exit B of Jinwan Plaza Subway Station (Line 3) - Near the West end of the Jiefang Bridge (across the river from the Tianjin Railway Station) Tianjin - Heping District - China
BEGIN:VALARM
TRIGGER:-PT48H
REPEAT:4
DURATION:PT30M
ACTION:DISPLAY
END:VALARM
END:VEVENT
END:VCALENDAR