BEGIN:VCALENDAR
VERSION:2.0
PRODID:GlueUp
CALSCALE:GREGORIAN
BEGIN:VTIMEZONE
TZID:UTC
BEGIN:STANDARD
DTSTART:19700101T000000
TZOFFSETFROM:+0000
TZOFFSETTO:+0000
TZNAME:UTC
END:STANDARD
END:VTIMEZONE
BEGIN:VEVENT
TZ:+00
ORGANIZER;CN=Melody Wen:MAILTO:mwen@amchamchina.org
UID:42056-1776733271@https://amcham.glueup.cn
DTSTAMP:20260421T010111Z
DTSTART:20231108T010000Z
DTEND:20231108T090000Z
SUMMARY:Offline Training (CN) | Legendary Zoo—Project Management Sandbox 《传奇动物园》项目管理沙盘
DESCRIPTION:Offline Training (CN) | Legendary Zoo—Project Management Sandbox 《传奇动物园》项目管理沙盘 by AmCham China\n\nNov 8, 2023 (9:00 AM - 5:00 PM)(GMT+8)\n\nFor more information, click here: https://amcham.glueup.cn/my/events/42056
LOCATION:北京招商局大厦 - 北京市朝阳区建国路118号 Beijing - China
BEGIN:VALARM
TRIGGER:-PT48H
REPEAT:4
DURATION:PT30M
ACTION:DISPLAY
END:VALARM
END:VEVENT
END:VCALENDAR