BEGIN:VCALENDAR
VERSION:2.0
PRODID:GlueUp
CALSCALE:GREGORIAN
BEGIN:VTIMEZONE
TZID:UTC
BEGIN:STANDARD
DTSTART:19700101T000000
TZOFFSETFROM:+0000
TZOFFSETTO:+0000
TZNAME:UTC
END:STANDARD
END:VTIMEZONE
BEGIN:VEVENT
TZ:+00
ORGANIZER;CN=AmCham China:MAILTO:amcham@amchamchina.org
UID:42029-1776733272@https://amcham.glueup.cn
DTSTAMP:20260421T010112Z
DTSTART:20231114T080000Z
DTEND:20231114T100000Z
SUMMARY:Manufacturing, Sourcing, Supply Chain and Customs Committee Member Happy Hour
DESCRIPTION:Manufacturing, Sourcing, Supply Chain and Customs Committee Member Happy Hour by AmCham China\n\nNov 14, 2023 (4:00 PM - 6:00 PM)(GMT+8)\n\nFor more information, click here: https://amcham.glueup.cn/my/events/42029
LOCATION:京A Taproom(CBD) - 光华路1号1层 L108、L109 Beijing - China
BEGIN:VALARM
TRIGGER:-PT48H
REPEAT:4
DURATION:PT30M
ACTION:DISPLAY
END:VALARM
END:VEVENT
END:VCALENDAR