BEGIN:VCALENDAR
VERSION:2.0
PRODID:GlueUp
CALSCALE:GREGORIAN
BEGIN:VTIMEZONE
TZID:UTC
BEGIN:STANDARD
DTSTART:19700101T000000
TZOFFSETFROM:+0000
TZOFFSETTO:+0000
TZNAME:UTC
END:STANDARD
END:VTIMEZONE
BEGIN:VEVENT
TZ:+00
ORGANIZER;CN=Christine Chen:MAILTO:christine.chen@amchamchina.org
UID:41832-1776733256@https://amcham.glueup.cn
DTSTAMP:20260421T010056Z
DTSTART:20231017T005000Z
DTEND:20231017T040000Z
SUMMARY:[Cancelled] Online Training (CN) | Intergenerational Leadership - Employee Management of 95&00 Generation
DESCRIPTION:[Cancelled] Online Training (CN) | Intergenerational Leadership - Employee Management of 95&00 Generation by AmCham China\n\nOct 17, 2023 (8:50 AM - 12:00 PM)(GMT+8)\n\nFor more information, click here: https://amcham.glueup.cn/my/events/41832
LOCATION:Online Event
BEGIN:VALARM
TRIGGER:-PT48H
REPEAT:4
DURATION:PT30M
ACTION:DISPLAY
END:VALARM
END:VEVENT
END:VCALENDAR