BEGIN:VCALENDAR
VERSION:2.0
PRODID:GlueUp
CALSCALE:GREGORIAN
BEGIN:VTIMEZONE
TZID:UTC
BEGIN:STANDARD
DTSTART:19700101T000000
TZOFFSETFROM:+0000
TZOFFSETTO:+0000
TZNAME:UTC
END:STANDARD
END:VTIMEZONE
BEGIN:VEVENT
TZ:+00
ORGANIZER;CN=Yoyo Wu:MAILTO:ywu@amchamchina.org
UID:41784-1776733596@https://amcham.glueup.cn
DTSTAMP:20260421T010636Z
DTSTART:20231026T100000Z
DTEND:20231026T120000Z
SUMMARY:Offline (EN) | Member Networking Night & Meet Candidates for AmCham China's 2024 Board of Governors
DESCRIPTION:Offline (EN) | Member Networking Night & Meet Candidates for AmCham China's 2024 Board of Governors by AmCham China\n\nOct 26, 2023 (6:00 PM - 8:00 PM)(GMT+8)\n\nFor more information, click here: https://amcham.glueup.cn/my/events/41784
LOCATION:China World Hotel, Beijing - No. 1 Jianguomen Outer Street Beijing - China
BEGIN:VALARM
TRIGGER:-PT48H
REPEAT:4
DURATION:PT30M
ACTION:DISPLAY
END:VALARM
END:VEVENT
END:VCALENDAR