BEGIN:VCALENDAR
VERSION:2.0
PRODID:GlueUp
CALSCALE:GREGORIAN
BEGIN:VTIMEZONE
TZID:UTC
BEGIN:STANDARD
DTSTART:19700101T000000
TZOFFSETFROM:+0000
TZOFFSETTO:+0000
TZNAME:UTC
END:STANDARD
END:VTIMEZONE
BEGIN:VEVENT
TZ:+00
ORGANIZER;CN=Alice Xin:MAILTO:axin@amchamchina.org
UID:41777-1776738841@https://amcham.glueup.cn
DTSTAMP:20260421T023401Z
DTSTART:20231016T093000Z
DTEND:20231016T110000Z
SUMMARY:Postponed | Dalian | Member Townhall with US Ambassador to China Nicholas Burns
DESCRIPTION:Postponed | Dalian | Member Townhall with US Ambassador to China Nicholas Burns by AmCham China\n\nOct 16, 2023 (5:30 PM - 7:00 PM)(GMT+8)\n\nFor more information, click here: https://amcham.glueup.cn/my/events/41777
LOCATION:Grand Hyatt Dalian Salon I on the 2nd floor大连君悦酒店 二层 沙龙I厅 - No.33 - C3 Zone - Xinghai Square - Dalian - China - 大连沙河口星海广场C3区33号 (近百年城雕 - 星海广场西南侧近海) Dalian - Liaoning - China
BEGIN:VALARM
TRIGGER:-PT48H
REPEAT:4
DURATION:PT30M
ACTION:DISPLAY
END:VALARM
END:VEVENT
END:VCALENDAR