BEGIN:VCALENDAR
VERSION:2.0
PRODID:GlueUp
CALSCALE:GREGORIAN
BEGIN:VTIMEZONE
TZID:UTC
BEGIN:STANDARD
DTSTART:19700101T000000
TZOFFSETFROM:+0000
TZOFFSETTO:+0000
TZNAME:UTC
END:STANDARD
END:VTIMEZONE
BEGIN:VEVENT
TZ:+00
ORGANIZER;CN=Xi Wang:MAILTO:xwang@amchamchina.org
UID:41745-1776727382@https://amcham.glueup.cn
DTSTAMP:20260420T232302Z
DTSTART:20231114T060000Z
DTEND:20231114T090000Z
SUMMARY:Offline (EN&CN) | Healthcare Industry Intellectual Property Protection Workshop
DESCRIPTION:Offline (EN&CN) | Healthcare Industry Intellectual Property Protection Workshop by AmCham China\n\nNov 14, 2023 (2:00 PM - 5:00 PM)(GMT+8)\n\nFor more information, click here: https://amcham.glueup.cn/my/events/41745
LOCATION:北京中国大饭店   China World Hotel, Beijing - 中國北京市朝阳区建国门外大街1号 -  - No 1 Jianguomenwai Avenue - Beijing Beijing - Chaoyang District - China
BEGIN:VALARM
TRIGGER:-PT48H
REPEAT:4
DURATION:PT30M
ACTION:DISPLAY
END:VALARM
END:VEVENT
END:VCALENDAR