BEGIN:VCALENDAR
VERSION:2.0
PRODID:GlueUp
CALSCALE:GREGORIAN
BEGIN:VTIMEZONE
TZID:UTC
BEGIN:STANDARD
DTSTART:19700101T000000
TZOFFSETFROM:+0000
TZOFFSETTO:+0000
TZNAME:UTC
END:STANDARD
END:VTIMEZONE
BEGIN:VEVENT
TZ:+00
ORGANIZER;CN=Lina Wang:MAILTO:lwang@amchamchina.org
UID:41702-1776733173@https://amcham.glueup.cn
DTSTAMP:20260421T005933Z
DTSTART:20231020T074500Z
DTEND:20231020T110000Z
SUMMARY:Wuhan | Global Educators Unite: Charting a Course for International Schools in Wuhan
DESCRIPTION:Wuhan | Global Educators Unite: Charting a Course for International Schools in Wuhan by AmCham China\n\nOct 20, 2023 (3:45 PM - 7:00 PM)(GMT+8)\n\nFor more information, click here: https://amcham.glueup.cn/my/events/41702
LOCATION:Wuhan Yangtze International School - Wuhan International Educational Center - Boxue Road - WEDZ Wuhan - Hubei - China
BEGIN:VALARM
TRIGGER:-PT48H
REPEAT:4
DURATION:PT30M
ACTION:DISPLAY
END:VALARM
END:VEVENT
END:VCALENDAR