BEGIN:VCALENDAR
VERSION:2.0
PRODID:GlueUp
CALSCALE:GREGORIAN
BEGIN:VTIMEZONE
TZID:UTC
BEGIN:STANDARD
DTSTART:19700101T000000
TZOFFSETFROM:+0000
TZOFFSETTO:+0000
TZNAME:UTC
END:STANDARD
END:VTIMEZONE
BEGIN:VEVENT
TZ:+00
ORGANIZER;CN=Linda Cheng:MAILTO:lcheng@amchamchina.org
UID:41681-1776727466@https://amcham.glueup.cn
DTSTAMP:20260420T232426Z
DTSTART:20231102T234500Z
DTEND:20231103T090000Z
SUMMARY:Exclusive Company Tour to Boeing Tianjin Composites with Breakfast Briefing & Lean Six Sigma Training-Yellow Belt (With Certification)
DESCRIPTION:Exclusive Company Tour to Boeing Tianjin Composites with Breakfast Briefing & Lean Six Sigma Training-Yellow Belt (With Certification) by AmCham China\n\nNov 3, 2023 (7:45 AM - 5:00 PM)(GMT+8)\n\nFor more information, click here: https://amcham.glueup.cn/my/events/41681
LOCATION:4 F, Administration Building, Boeing Tianjin Composites - No. 4566 Hebei Road - Tanggu Marine High-tech Development Zone - Tianjin - 300451 Tianjin - China
BEGIN:VALARM
TRIGGER:-PT48H
REPEAT:4
DURATION:PT30M
ACTION:DISPLAY
END:VALARM
END:VEVENT
END:VCALENDAR