BEGIN:VCALENDAR
VERSION:2.0
PRODID:GlueUp
CALSCALE:GREGORIAN
BEGIN:VTIMEZONE
TZID:UTC
BEGIN:STANDARD
DTSTART:19700101T000000
TZOFFSETFROM:+0000
TZOFFSETTO:+0000
TZNAME:UTC
END:STANDARD
END:VTIMEZONE
BEGIN:VEVENT
TZ:+00
ORGANIZER;CN=Linda Cheng:MAILTO:lcheng@amchamchina.org
UID:41648-1776733696@https://amcham.glueup.cn
DTSTAMP:20260421T010816Z
DTSTART:20231018T003000Z
DTEND:20231018T053000Z
SUMMARY:Tianjin 2023 HR Forum- Integration between Industry and Education & Cost Reduction and Efficiency Improvement
DESCRIPTION:Tianjin 2023 HR Forum- Integration between Industry and Education & Cost Reduction and Efficiency Improvement by AmCham China\n\nOct 18, 2023 (8:30 AM - 1:30 PM)(GMT+8)\n\nFor more information, click here: https://amcham.glueup.cn/my/events/41648
LOCATION:Ball room 1, 2F of Shangri-La Tianjin 天津香格里拉二楼宴会厅1 - No.328 Haihe East Rd - Hedong District - Tianjin - 天津市河东区海河东路328号 Tianjin - China
BEGIN:VALARM
TRIGGER:-PT48H
REPEAT:4
DURATION:PT30M
ACTION:DISPLAY
END:VALARM
END:VEVENT
END:VCALENDAR