BEGIN:VCALENDAR
VERSION:2.0
PRODID:GlueUp
CALSCALE:GREGORIAN
BEGIN:VTIMEZONE
TZID:UTC
BEGIN:STANDARD
DTSTART:19700101T000000
TZOFFSETFROM:+0000
TZOFFSETTO:+0000
TZNAME:UTC
END:STANDARD
END:VTIMEZONE
BEGIN:VEVENT
TZ:+00
ORGANIZER;CN=Linda Cheng:MAILTO:lcheng@amchamchina.org
UID:41605-1776740093@https://amcham.glueup.cn
DTSTAMP:20260421T025453Z
DTSTART:20230928T060000Z
DTEND:20230928T090000Z
SUMMARY:Tianjin (CN) | Women Professionals Committee (WPC) Mock Court Series: The Legal Viewpoint of “Her”
DESCRIPTION:Tianjin (CN) | Women Professionals Committee (WPC) Mock Court Series: The Legal Viewpoint of “Her” by AmCham China\n\nSep 28, 2023 (2:00 PM - 5:00 PM)(GMT+8)\n\nFor more information, click here: https://amcham.glueup.cn/my/events/41605
LOCATION:VIP Room, 2F of Tianjin Yanyuan International Hotel 天津燕园国际大酒店二楼贵宾厅 - Tianjin
BEGIN:VALARM
TRIGGER:-PT48H
REPEAT:4
DURATION:PT30M
ACTION:DISPLAY
END:VALARM
END:VEVENT
END:VCALENDAR