BEGIN:VCALENDAR
VERSION:2.0
PRODID:GlueUp
CALSCALE:GREGORIAN
BEGIN:VTIMEZONE
TZID:UTC
BEGIN:STANDARD
DTSTART:19700101T000000
TZOFFSETFROM:+0000
TZOFFSETTO:+0000
TZNAME:UTC
END:STANDARD
END:VTIMEZONE
BEGIN:VEVENT
TZ:+00
ORGANIZER;CN=Alice Xin:MAILTO:axin@amchamchina.org
UID:41573-1776738396@https://amcham.glueup.cn
DTSTAMP:20260421T022636Z
DTSTART:20231024T070000Z
DTEND:20231024T120000Z
SUMMARY:Postponed | AmCham China Northeast 2023 Business Forum: ESG, Green Development, Digital Economy, Sustainable and Inclusive Growth
DESCRIPTION:Postponed | AmCham China Northeast 2023 Business Forum: ESG, Green Development, Digital Economy, Sustainable and Inclusive Growth by AmCham China\n\nOct 24, 2023 (3:00 PM - 8:00 PM)(GMT+8)\n\nFor more information, click here: https://amcham.glueup.cn/my/events/41573
LOCATION:Grand Hyatt Shenyang - No. 288 - Qingnian Street - Heping District - Shenyang - China - 沈阳市和平区青年大街288号君悦大酒店 Shenyang - Liaoning - China
BEGIN:VALARM
TRIGGER:-PT48H
REPEAT:4
DURATION:PT30M
ACTION:DISPLAY
END:VALARM
END:VEVENT
END:VCALENDAR