BEGIN:VCALENDAR
VERSION:2.0
PRODID:GlueUp
CALSCALE:GREGORIAN
BEGIN:VTIMEZONE
TZID:UTC
BEGIN:STANDARD
DTSTART:19700101T000000
TZOFFSETFROM:+0000
TZOFFSETTO:+0000
TZNAME:UTC
END:STANDARD
END:VTIMEZONE
BEGIN:VEVENT
TZ:+00
ORGANIZER;CN=Wei Wei:MAILTO:wwei@amchamchina.org
UID:41566-1776740096@https://amcham.glueup.cn
DTSTAMP:20260421T025456Z
DTSTART:20230927T010000Z
DTEND:20230927T080000Z
SUMMARY:Chengdu | Investing in Southwest China Series -- Unlocking Opportunities and Volvo (Chengdu) Site Tour
DESCRIPTION:Chengdu | Investing in Southwest China Series -- Unlocking Opportunities and Volvo (Chengdu) Site Tour by AmCham China\n\nSep 27, 2023 (9:00 AM - 4:00 PM)(GMT+8)\n\nFor more information, click here: https://amcham.glueup.cn/my/events/41566
LOCATION:MFG, Floor 12, WIFC - Dong Da Jie No.258 - Jinjiang District MFG - 西部国际金融中心(WIFC) 锦江区东大街258号12层 Chengdu - Sichuan - China
BEGIN:VALARM
TRIGGER:-PT48H
REPEAT:4
DURATION:PT30M
ACTION:DISPLAY
END:VALARM
END:VEVENT
END:VCALENDAR