BEGIN:VCALENDAR
VERSION:2.0
PRODID:GlueUp
CALSCALE:GREGORIAN
BEGIN:VTIMEZONE
TZID:UTC
BEGIN:STANDARD
DTSTART:19700101T000000
TZOFFSETFROM:+0000
TZOFFSETTO:+0000
TZNAME:UTC
END:STANDARD
END:VTIMEZONE
BEGIN:VEVENT
TZ:+00
ORGANIZER;CN=Xi Wang:MAILTO:xwang@amchamchina.org
UID:41266-1776745872@https://amcham.glueup.cn
DTSTAMP:20260421T043112Z
DTSTART:20230906T070000Z
DTEND:20230906T100000Z
SUMMARY:AmCham China Healthcare Forum: Reform and Innovation of Medical Insurance Payment for Three Medical Linkages
DESCRIPTION:AmCham China Healthcare Forum: Reform and Innovation of Medical Insurance Payment for Three Medical Linkages by AmCham China\n\nSep 6, 2023 (3:00 PM - 6:00 PM)(GMT+8)\n\nFor more information, click here: https://amcham.glueup.cn/my/events/41266
LOCATION:Hilton Hotel Beijing - No. 1 Dong Fang Road - North Dong Sanhuan Road - Chaoyang District Beijing - China
BEGIN:VALARM
TRIGGER:-PT48H
REPEAT:4
DURATION:PT30M
ACTION:DISPLAY
END:VALARM
END:VEVENT
END:VCALENDAR