BEGIN:VCALENDAR
VERSION:2.0
PRODID:GlueUp
CALSCALE:GREGORIAN
BEGIN:VTIMEZONE
TZID:UTC
BEGIN:STANDARD
DTSTART:19700101T000000
TZOFFSETFROM:+0000
TZOFFSETTO:+0000
TZNAME:UTC
END:STANDARD
END:VTIMEZONE
BEGIN:VEVENT
TZ:+00
ORGANIZER;CN=Lixin Yuan:MAILTO:lyuan@amchamchina.org
UID:41262-1776745873@https://amcham.glueup.cn
DTSTAMP:20260421T043113Z
DTSTART:20230906T130000Z
DTEND:20230906T160000Z
SUMMARY:【Canceled】Online Training (CN)｜Generational Leadership - Managing the 95, 00s｜代际领导力--9500 后员工管理
DESCRIPTION:【Canceled】Online Training (CN)｜Generational Leadership - Managing the 95, 00s｜代际领导力--9500 后员工管理 by AmCham China\n\nSep 6, 2023 (9:00 AM - 12:00 PM)(GMT-4)\n\nFor more information, click here: https://amcham.glueup.cn/my/events/41262
LOCATION:Online Event
BEGIN:VALARM
TRIGGER:-PT48H
REPEAT:4
DURATION:PT30M
ACTION:DISPLAY
END:VALARM
END:VEVENT
END:VCALENDAR