BEGIN:VCALENDAR
VERSION:2.0
PRODID:GlueUp
CALSCALE:GREGORIAN
BEGIN:VTIMEZONE
TZID:UTC
BEGIN:STANDARD
DTSTART:19700101T000000
TZOFFSETFROM:+0000
TZOFFSETTO:+0000
TZNAME:UTC
END:STANDARD
END:VTIMEZONE
BEGIN:VEVENT
TZ:+00
ORGANIZER;CN=AmCham China:MAILTO:amcham@amchamchina.org
UID:41245-1776751979@https://amcham.glueup.cn
DTSTAMP:20260421T061259Z
DTSTART:20230815T053000Z
DTEND:20230815T070000Z
SUMMARY:Offline (EN) | Exclusive Policy+ Dialogue with US and Australian Economic Officers on Trade & Investment
DESCRIPTION:Offline (EN) | Exclusive Policy+ Dialogue with US and Australian Economic Officers on Trade & Investment by AmCham China\n\nAug 15, 2023 (1:30 PM - 3:00 PM)(GMT+8)\n\nFor more information, click here: https://amcham.glueup.cn/my/events/41245
LOCATION:AmCham China Washington Room - Floor 3 - Gate 4 - Pacific Century Place - 2A Workers' Stadium North Road - 北京市朝阳区工体北路甲2号， 盈科中心4号门3层。 Beijing - Chaoyang District - China
BEGIN:VALARM
TRIGGER:-PT48H
REPEAT:4
DURATION:PT30M
ACTION:DISPLAY
END:VALARM
END:VEVENT
END:VCALENDAR