BEGIN:VCALENDAR
VERSION:2.0
PRODID:GlueUp
CALSCALE:GREGORIAN
BEGIN:VTIMEZONE
TZID:UTC
BEGIN:STANDARD
DTSTART:19700101T000000
TZOFFSETFROM:+0000
TZOFFSETTO:+0000
TZNAME:UTC
END:STANDARD
END:VTIMEZONE
BEGIN:VEVENT
TZ:+00
ORGANIZER;CN=Linda Cheng:MAILTO:lcheng@amchamchina.org
UID:41210-1776745951@https://amcham.glueup.cn
DTSTAMP:20260421T043231Z
DTSTART:20230816T231500Z
DTEND:20230817T010000Z
SUMMARY:Tianjin | Monthly Executive Breakfast Briefing – Empower Organizational Change through Cost Reduction and Efficiency Improvement
DESCRIPTION:Tianjin | Monthly Executive Breakfast Briefing – Empower Organizational Change through Cost Reduction and Efficiency Improvement by AmCham China\n\nAug 17, 2023 (7:15 AM - 9:00 AM)(GMT+8)\n\nFor more information, click here: https://amcham.glueup.cn/my/events/41210
LOCATION:Plum & Orchid Room, 5F of Four Seasons Hotel Tianjin - Four Seasons Hotel - Tianjin - No. 138 Chifeng Road - Heping District - Tianjin - 天津市和平区赤峰道138号四季酒店5层梅兰厅 Four Seasons Hotel Tianjin - China
BEGIN:VALARM
TRIGGER:-PT48H
REPEAT:4
DURATION:PT30M
ACTION:DISPLAY
END:VALARM
END:VEVENT
END:VCALENDAR