BEGIN:VCALENDAR
VERSION:2.0
PRODID:GlueUp
CALSCALE:GREGORIAN
BEGIN:VTIMEZONE
TZID:UTC
BEGIN:STANDARD
DTSTART:19700101T000000
TZOFFSETFROM:+0000
TZOFFSETTO:+0000
TZNAME:UTC
END:STANDARD
END:VTIMEZONE
BEGIN:VEVENT
TZ:+00
ORGANIZER;CN=Alice Xin:MAILTO:axin@amchamchina.org
UID:41180-1776745999@https://amcham.glueup.cn
DTSTAMP:20260421T043319Z
DTSTART:20230825T100000Z
DTEND:20230825T120000Z
SUMMARY:Dalian | End of Summer Mixer and Celebrating the Relocation of Northeast Chapter's Office Location
DESCRIPTION:Dalian | End of Summer Mixer and Celebrating the Relocation of Northeast Chapter's Office Location by AmCham China\n\nAug 25, 2023 (6:00 PM - 8:00 PM)(GMT+8)\n\nFor more information, click here: https://amcham.glueup.cn/my/events/41180
LOCATION:62Lounge café,62nd floor, ST2 Eton International Tower - No.280 Changjiang Rd. Zhongshan District - Dalian City - Liaoning Province - China Dalian - Liaoning - China
BEGIN:VALARM
TRIGGER:-PT48H
REPEAT:4
DURATION:PT30M
ACTION:DISPLAY
END:VALARM
END:VEVENT
END:VCALENDAR