BEGIN:VCALENDAR
VERSION:2.0
PRODID:GlueUp
CALSCALE:GREGORIAN
BEGIN:VTIMEZONE
TZID:UTC
BEGIN:STANDARD
DTSTART:19700101T000000
TZOFFSETFROM:+0000
TZOFFSETTO:+0000
TZNAME:UTC
END:STANDARD
END:VTIMEZONE
BEGIN:VEVENT
TZ:+00
ORGANIZER;CN=Christine Chen:MAILTO:christine.chen@amchamchina.org
UID:41130-1776745989@https://amcham.glueup.cn
DTSTAMP:20260421T043309Z
DTSTART:20230818T010000Z
DTEND:20230818T083000Z
SUMMARY:[Cancelled] Tianjin (EN) | Offline Business English Training - Improve Your Written & Oral Report Skills
DESCRIPTION:[Cancelled] Tianjin (EN) | Offline Business English Training - Improve Your Written & Oral Report Skills by AmCham China\n\nAug 18, 2023 (9:00 AM - 4:30 PM)(GMT+8)\n\nFor more information, click here: https://amcham.glueup.cn/my/events/41130
LOCATION:AmCham China, Tianjin, Conference Room - 29F -  The Exchange Tower 2 - No.189 Nanjing Rd - Heping District - 天津市和平区南京路189号津汇广场2座29层 Tianjin - China
BEGIN:VALARM
TRIGGER:-PT48H
REPEAT:4
DURATION:PT30M
ACTION:DISPLAY
END:VALARM
END:VEVENT
END:VCALENDAR