BEGIN:VCALENDAR
VERSION:2.0
PRODID:GlueUp
CALSCALE:GREGORIAN
BEGIN:VTIMEZONE
TZID:UTC
BEGIN:STANDARD
DTSTART:19700101T000000
TZOFFSETFROM:+0000
TZOFFSETTO:+0000
TZNAME:UTC
END:STANDARD
END:VTIMEZONE
BEGIN:VEVENT
TZ:+00
ORGANIZER;CN=Linda Cheng:MAILTO:lcheng@amchamchina.org
UID:41126-1776745989@https://amcham.glueup.cn
DTSTAMP:20260421T043309Z
DTSTART:20230804T060000Z
DTEND:20230804T090000Z
SUMMARY:Tianjin | Women Professionals Committee (WPC) Workshop - Utilizing Emotional Intelligence to Positively Impact Work and Life
DESCRIPTION:AmCham China发布活动Tianjin | Women Professionals Committee (WPC) Workshop - Utilizing Emotional Intelligence to Positively Impact Work and Life\n\n2023年08月04日（下午 2:00 - 下午 5:00）(GMT+8)\n\n更多信息，访问https://amcham.glueup.cn/my/events/41126
LOCATION:天津康莱德酒店三层会议室5 - 中国天津市天津市南开区天塔道46号
BEGIN:VALARM
TRIGGER:-PT48H
REPEAT:4
DURATION:PT30M
ACTION:DISPLAY
END:VALARM
END:VEVENT
END:VCALENDAR