BEGIN:VCALENDAR
VERSION:2.0
PRODID:GlueUp
CALSCALE:GREGORIAN
BEGIN:VTIMEZONE
TZID:UTC
BEGIN:STANDARD
DTSTART:19700101T000000
TZOFFSETFROM:+0000
TZOFFSETTO:+0000
TZNAME:UTC
END:STANDARD
END:VTIMEZONE
BEGIN:VEVENT
TZ:+00
ORGANIZER;CN=Christine Chen:MAILTO:christine.chen@amchamchina.org
UID:40902-1776753301@https://amcham.glueup.cn
DTSTAMP:20260421T063501Z
DTSTART:20230710T010000Z
DTEND:20230712T090000Z
SUMMARY:Invitation | China Council for the Promotion of International Trade (CCPIT)'s 2023 Tianjin Trip -- Dialogue, tour and more!
DESCRIPTION:Invitation | China Council for the Promotion of International Trade (CCPIT)'s 2023 Tianjin Trip -- Dialogue, tour and more! by AmCham China\n\nJul 10 - 12, 2023(GMT+8)\n\nFor more information, click here: https://amcham.glueup.cn/my/events/40902
LOCATION: - Tianjin - China
BEGIN:VALARM
TRIGGER:-PT48H
REPEAT:4
DURATION:PT30M
ACTION:DISPLAY
END:VALARM
END:VEVENT
END:VCALENDAR