BEGIN:VCALENDAR
VERSION:2.0
PRODID:GlueUp
CALSCALE:GREGORIAN
BEGIN:VTIMEZONE
TZID:UTC
BEGIN:STANDARD
DTSTART:19700101T000000
TZOFFSETFROM:+0000
TZOFFSETTO:+0000
TZNAME:UTC
END:STANDARD
END:VTIMEZONE
BEGIN:VEVENT
TZ:+00
ORGANIZER;CN=Lixin Yuan:MAILTO:lyuan@amchamchina.org
UID:40897-1776754454@https://amcham.glueup.cn
DTSTAMP:20260421T065414Z
DTSTART:20230706T130000Z
DTEND:20230707T200000Z
SUMMARY:Online Training (CN)｜AI-enabled Office Software: efficient Office Automation
DESCRIPTION:Online Training (CN)｜AI-enabled Office Software: efficient Office Automation by AmCham China\n\nJul 6 & 7, 2023(GMT-4)\n\nFor more information, click here: https://amcham.glueup.cn/my/events/40897
LOCATION:Online Event
BEGIN:VALARM
TRIGGER:-PT48H
REPEAT:4
DURATION:PT30M
ACTION:DISPLAY
END:VALARM
END:VEVENT
END:VCALENDAR