BEGIN:VCALENDAR
VERSION:2.0
PRODID:GlueUp
CALSCALE:GREGORIAN
BEGIN:VTIMEZONE
TZID:UTC
BEGIN:STANDARD
DTSTART:19700101T000000
TZOFFSETFROM:+0000
TZOFFSETTO:+0000
TZNAME:UTC
END:STANDARD
END:VTIMEZONE
BEGIN:VEVENT
TZ:+00
ORGANIZER;CN=Xi Wang:MAILTO:xwang@amchamchina.org
UID:40881-1776753372@https://amcham.glueup.cn
DTSTAMP:20260421T063612Z
DTSTART:20230719T070000Z
DTEND:20230719T083000Z
SUMMARY:[New Date] Standard Contract for Outbound Transfer of Personal Information from Medical Enterprises
DESCRIPTION:[New Date] Standard Contract for Outbound Transfer of Personal Information from Medical Enterprises by AmCham China\n\nJul 19, 2023 (3:00 PM - 4:30 PM)(GMT+8)\n\nFor more information, click here: https://amcham.glueup.cn/my/events/40881
LOCATION:Han Kun Law Offices - 9F - Office Tower C1 - Oriental Plaza - 1 East Chang An Ave. - Dongcheng District Beijing - China
BEGIN:VALARM
TRIGGER:-PT48H
REPEAT:4
DURATION:PT30M
ACTION:DISPLAY
END:VALARM
END:VEVENT
END:VCALENDAR