BEGIN:VCALENDAR
VERSION:2.0
PRODID:GlueUp
CALSCALE:GREGORIAN
BEGIN:VTIMEZONE
TZID:UTC
BEGIN:STANDARD
DTSTART:19700101T000000
TZOFFSETFROM:+0000
TZOFFSETTO:+0000
TZNAME:UTC
END:STANDARD
END:VTIMEZONE
BEGIN:VEVENT
TZ:+00
ORGANIZER;CN=Linda Cheng:MAILTO:lcheng@amchamchina.org
UID:39642-1776753301@https://amcham.glueup.cn
DTSTAMP:20260421T063501Z
DTSTART:20230725T004500Z
DTEND:20230725T100000Z
SUMMARY:［CANCELLED］Tianjin Offline Training (CN) | Lean Six Sigma - Yellow Belt (With Certification)
DESCRIPTION:［CANCELLED］Tianjin Offline Training (CN) | Lean Six Sigma - Yellow Belt (With Certification) by AmCham China\n\nJul 25, 2023 (8:45 AM - 6:00 PM)(GMT+8)\n\nFor more information, click here: https://amcham.glueup.cn/my/events/39642
LOCATION:AmCham China, Tianjin Office - Floor 29 - The Exchange Tower 2 - No.189 Nanjing Rd - Heping District - Tianjin - 中国天津市和平区南京路189号津汇广场2座29层 Tianjin - Heping District - China
BEGIN:VALARM
TRIGGER:-PT48H
REPEAT:4
DURATION:PT30M
ACTION:DISPLAY
END:VALARM
END:VEVENT
END:VCALENDAR