BEGIN:VCALENDAR
VERSION:2.0
PRODID:GlueUp
CALSCALE:GREGORIAN
BEGIN:VTIMEZONE
TZID:UTC
BEGIN:STANDARD
DTSTART:19700101T000000
TZOFFSETFROM:+0000
TZOFFSETTO:+0000
TZNAME:UTC
END:STANDARD
END:VTIMEZONE
BEGIN:VEVENT
TZ:+00
ORGANIZER;CN=Yin Yu:MAILTO:yyu@amchamchina.org
UID:37496-1776634463@https://amcham.glueup.cn
DTSTAMP:20260419T213423Z
DTSTART:20220929T010000Z
DTEND:20220929T093000Z
SUMMARY:[SOLD OUT!] Offline (EN) | AmCham China 2022 Technology and Innovation Summit
DESCRIPTION:[SOLD OUT!] Offline (EN) | AmCham China 2022 Technology and Innovation Summit by AmCham China\n\nSep 29, 2022 (9:00 AM - 5:30 PM)(GMT+8)\n\nFor more information, click here: https://amcham.glueup.cn/my/events/37496
LOCATION:Beijing Hilton Hotel - Beijing - China
BEGIN:VALARM
TRIGGER:-PT48H
REPEAT:4
DURATION:PT30M
ACTION:DISPLAY
END:VALARM
END:VEVENT
END:VCALENDAR