BEGIN:VCALENDAR
VERSION:2.0
PRODID:GlueUp
CALSCALE:GREGORIAN
BEGIN:VTIMEZONE
TZID:UTC
BEGIN:STANDARD
DTSTART:19700101T000000
TZOFFSETFROM:+0000
TZOFFSETTO:+0000
TZNAME:UTC
END:STANDARD
END:VTIMEZONE
BEGIN:VEVENT
TZ:+00
ORGANIZER;CN=Amanda He:MAILTO:amandahe@amchamchina.org
UID:34156-1776959969@https://amcham.glueup.cn
DTSTAMP:20260423T155929Z
DTSTART:20211028T070000Z
DTEND:20211028T110000Z
SUMMARY:[POSTPONED] China’s Economic Key Trends, Developments, & Opportunities - A Briefing by the Economist & Member Mixer
DESCRIPTION:[POSTPONED] China’s Economic Key Trends, Developments, & Opportunities - A Briefing by the Economist & Member Mixer by AmCham China\n\nOct 28, 2021 (3:00 PM - 7:00 PM)(GMT+8)\n\nFor more information, click here: https://amcham.glueup.cn/my/events/34156
LOCATION:InterContinental Tianjin Yujiapu Hotel & Residences - Commune Bar，1F of InterContinental Tianjin Yujiapu Hotel & Residences，No. 3360 Xinhua Rd - Binhai New Area - Tianjin - 天津市滨海新区新华路3360号于家堡洲际酒店1楼潮酒社 Tianjin - China
BEGIN:VALARM
TRIGGER:-PT48H
REPEAT:4
DURATION:PT30M
ACTION:DISPLAY
END:VALARM
END:VEVENT
END:VCALENDAR