BEGIN:VCALENDAR
VERSION:2.0
PRODID:GlueUp
CALSCALE:GREGORIAN
BEGIN:VTIMEZONE
TZID:UTC
BEGIN:STANDARD
DTSTART:19700101T000000
TZOFFSETFROM:+0000
TZOFFSETTO:+0000
TZNAME:UTC
END:STANDARD
END:VTIMEZONE
BEGIN:VEVENT
TZ:+00
ORGANIZER;CN=Kathy Li:MAILTO:kli@amchamchina.org
UID:29459-1776948383@https://amcham.glueup.cn
DTSTAMP:20260423T124623Z
DTSTART:20201218T010000Z
DTEND:20201218T040000Z
SUMMARY:Invite Only:  Social Impact Initiative Public Health Working Session#4 - Innovating Health Financing
DESCRIPTION:Invite Only:  Social Impact Initiative Public Health Working Session#4 - Innovating Health Financing by AmCham China\n\nDec 18, 2020 (9:00 AM - 12:00 PM)(GMT+8)\n\nFor more information, click here: https://amcham.glueup.cn/my/events/29459
LOCATION:华尔道夫酒店二层画意厅 - 金鱼胡同5-15号 - Beijing -  China - 100738 Beijing - China
BEGIN:VALARM
TRIGGER:-PT48H
REPEAT:4
DURATION:PT30M
ACTION:DISPLAY
END:VALARM
END:VEVENT
END:VCALENDAR