BEGIN:VCALENDAR
VERSION:2.0
PRODID:GlueUp
CALSCALE:GREGORIAN
BEGIN:VTIMEZONE
TZID:UTC
BEGIN:STANDARD
DTSTART:19700101T000000
TZOFFSETFROM:+0000
TZOFFSETTO:+0000
TZNAME:UTC
END:STANDARD
END:VTIMEZONE
BEGIN:VEVENT
TZ:+00
ORGANIZER;CN=AmCham China:MAILTO:amcham@amchamchina.org
UID:43877-1776684234@https://amcham.glueup.cn
DTSTAMP:20260420T112354Z
DTSTART:20240620T010000Z
DTEND:20240620T083000Z
SUMMARY:25th AmCham China Annual Human Resources Conference
DESCRIPTION:25th AmCham China Annual Human Resources Conference by AmCham China\n\nJun 20, 2024 (9:00 AM - 4:30 PM)(GMT+8)\n\nFor more information, click here: https://amcham.glueup.cn/my/events/43877
LOCATION:China World Summit Wing, Beijing 北京国贸大酒店 - No 1 - Jianguomenwai Avenue - Beijing Beijing - China
BEGIN:VALARM
TRIGGER:-PT48H
REPEAT:4
DURATION:PT30M
ACTION:DISPLAY
END:VALARM
END:VEVENT
END:VCALENDAR