BEGIN:VCALENDAR
VERSION:2.0
PRODID:GlueUp
CALSCALE:GREGORIAN
BEGIN:VTIMEZONE
TZID:UTC
BEGIN:STANDARD
DTSTART:19700101T000000
TZOFFSETFROM:+0000
TZOFFSETTO:+0000
TZNAME:UTC
END:STANDARD
END:VTIMEZONE
BEGIN:VEVENT
TZ:+00
ORGANIZER;CN=Serena Teng:MAILTO:steng@amchamchina.org
UID:42412-1776708708@https://amcham.glueup.cn
DTSTAMP:20260420T181148Z
DTSTART:20240301T090000Z
DTEND:20240301T120000Z
SUMMARY:23rd AmCham China Annual Appreciation Dinner
DESCRIPTION:23rd AmCham China Annual Appreciation Dinner by AmCham China\n\nMar 1, 2024 (5:00 PM - 8:00 PM)(GMT+8)\n\nFor more information, click here: https://amcham.glueup.cn/my/events/42412
LOCATION:China World Hotel - No. 1 Jianguomen Outer Street Beijing - China
BEGIN:VALARM
TRIGGER:-PT48H
REPEAT:4
DURATION:PT30M
ACTION:DISPLAY
END:VALARM
END:VEVENT
END:VCALENDAR