BEGIN:VCALENDAR
VERSION:2.0
PRODID:GlueUp
CALSCALE:GREGORIAN
BEGIN:VTIMEZONE
TZID:UTC
BEGIN:STANDARD
DTSTART:19700101T000000
TZOFFSETFROM:+0000
TZOFFSETTO:+0000
TZNAME:UTC
END:STANDARD
END:VTIMEZONE
BEGIN:VEVENT
TZ:+00
ORGANIZER;CN=Tingting Liu:MAILTO:tliu@amchamchina.org
UID:27995-1777025574@https://amcham.glueup.cn
DTSTAMP:20260424T101254Z
DTSTART:20201016T010000Z
DTEND:20201016T080000Z
SUMMARY:21st AmCham China Annual Human Resources Conference
DESCRIPTION:21st AmCham China Annual Human Resources Conference by AmCham China\n\nOct 16, 2020 (9:00 AM - 4:00 PM)(GMT+8)\n\nFor more information, click here: https://amcham.glueup.cn/my/events/27995
LOCATION:Cloud Theatre, RH Central, 云剧场，国锐广场荣华天地酒店 - No.1 Ronghua South Road - Etown Beijing 北京经济技术开发区荣华南路1号 Beijing - China
BEGIN:VALARM
TRIGGER:-PT48H
REPEAT:4
DURATION:PT30M
ACTION:DISPLAY
END:VALARM
END:VEVENT
END:VCALENDAR