BEGIN:VCALENDAR
VERSION:2.0
PRODID:GlueUp
CALSCALE:GREGORIAN
BEGIN:VTIMEZONE
TZID:UTC
BEGIN:STANDARD
DTSTART:19700101T000000
TZOFFSETFROM:+0000
TZOFFSETTO:+0000
TZNAME:UTC
END:STANDARD
END:VTIMEZONE
BEGIN:VEVENT
TZ:+00
ORGANIZER;CN=Yang Bai:MAILTO:ybai@amchamchina.org
UID:28632-1777151394@https://amcham.glueup.cn
DTSTAMP:20260425T210954Z
DTSTART:20201210T100000Z
DTEND:20201210T123000Z
SUMMARY:21st AmCham China Annual Appreciation Dinner
DESCRIPTION:21st AmCham China Annual Appreciation Dinner by AmCham China\n\nDec 10, 2020 (6:00 PM - 8:30 PM)(GMT+8)\n\nFor more information, click here: https://amcham.glueup.cn/my/events/28632
LOCATION:China World Hotel, Beijing - No. 1 Jianguomen Outer Street Beijing - China
BEGIN:VALARM
TRIGGER:-PT48H
REPEAT:4
DURATION:PT30M
ACTION:DISPLAY
END:VALARM
END:VEVENT
END:VCALENDAR