BEGIN:VCALENDAR
VERSION:2.0
PRODID:GlueUp
CALSCALE:GREGORIAN
BEGIN:VTIMEZONE
TZID:UTC
BEGIN:STANDARD
DTSTART:19700101T000000
TZOFFSETFROM:+0000
TZOFFSETTO:+0000
TZNAME:UTC
END:STANDARD
END:VTIMEZONE
BEGIN:VEVENT
TZ:+00
ORGANIZER;CN=Mark Dreyer:MAILTO:mdreyer@amchamchina.org
UID:46541-1776605846@https://amcham.glueup.cn
DTSTAMP:20260419T133726Z
DTSTART:20250512T040001Z
DTEND:20250516T040001Z
SUMMARY:2025 AmCham China DC Doorknock
DESCRIPTION:2025 AmCham China DC Doorknock by AmCham China\n\nMay 12 - 16, 2025(GMT-4)\n\nFor more information, click here: https://amcham.glueup.cn/my/events/46541
LOCATION:Washington D.C. - Washington -  DC
BEGIN:VALARM
TRIGGER:-PT48H
REPEAT:4
DURATION:PT30M
ACTION:DISPLAY
END:VALARM
END:VEVENT
END:VCALENDAR