BEGIN:VCALENDAR
VERSION:2.0
PRODID:GlueUp
CALSCALE:GREGORIAN
BEGIN:VTIMEZONE
TZID:UTC
BEGIN:STANDARD
DTSTART:19700101T000000
TZOFFSETFROM:+0000
TZOFFSETTO:+0000
TZNAME:UTC
END:STANDARD
END:VTIMEZONE
BEGIN:VEVENT
TZ:+00
ORGANIZER;CN=Lucinda Liu:MAILTO:lliu@amchamchina.org
UID:42411-1776721707@https://amcham.glueup.cn
DTSTAMP:20260420T214827Z
DTSTART:20231221T063000Z
DTEND:20231221T113000Z
SUMMARY:2023 中美能源合作会议暨年度招待会
DESCRIPTION:2023 中美能源合作会议暨年度招待会 by AmCham China\n\nDec 21, 2023 (2:30 PM - 7:30 PM)(GMT+8)\n\nFor more information, click here: https://amcham.glueup.cn/my/events/42411
LOCATION:TBD - Beijing - China
BEGIN:VALARM
TRIGGER:-PT48H
REPEAT:4
DURATION:PT30M
ACTION:DISPLAY
END:VALARM
END:VEVENT
END:VCALENDAR