BEGIN:VCALENDAR
VERSION:2.0
PRODID:GlueUp
CALSCALE:GREGORIAN
BEGIN:VTIMEZONE
TZID:UTC
BEGIN:STANDARD
DTSTART:19700101T000000
TZOFFSETFROM:+0000
TZOFFSETTO:+0000
TZNAME:UTC
END:STANDARD
END:VTIMEZONE
BEGIN:VEVENT
TZ:+00
ORGANIZER;CN=AmCham China:MAILTO:amcham@amchamchina.org
UID:19616-1776964963@https://amcham.glueup.cn
DTSTAMP:20260423T172243Z
DTSTART:20190410T010000Z
DTEND:20190410T080000Z
SUMMARY:2019 Women Economy Summit
DESCRIPTION:2019 Women Economy Summit by AmCham China\n\nApr 10, 2019 (9:00 AM - 4:00 PM)(GMT+8)\n\nFor more information, click here: https://amcham.glueup.cn/my/events/19616
LOCATION:Beijing Marriott Hotel Northeast - 26A Xiaoyun Road - Chaoyang District - Ballroom I - 北京海航大厦万豪酒店 - 朝阳区霄云路甲26号海航大厦万豪酒店2楼(近燕莎商业圈) Beijing - China
BEGIN:VALARM
TRIGGER:-PT48H
REPEAT:4
DURATION:PT30M
ACTION:DISPLAY
END:VALARM
END:VEVENT
END:VCALENDAR