BEGIN:VCALENDAR
VERSION:2.0
PRODID:GlueUp
CALSCALE:GREGORIAN
BEGIN:VTIMEZONE
TZID:UTC
BEGIN:STANDARD
DTSTART:19700101T000000
TZOFFSETFROM:+0000
TZOFFSETTO:+0000
TZNAME:UTC
END:STANDARD
END:VTIMEZONE
BEGIN:VEVENT
TZ:+00
ORGANIZER;CN=Caroline Wang:MAILTO:cwang@amchamchina.org
UID:20051-1776877883@https://amcham.glueup.cn
DTSTAMP:20260422T171123Z
DTSTART:20190115T010000Z
DTEND:20190115T090000Z
SUMMARY:PR Certificate Program: Practical Strategies on Enterprise Network Crisis – Case Studies and Practice Guidelines
DESCRIPTION:PR Certificate Program: Practical Strategies on Enterprise Network Crisis – Case Studies and Practice Guidelines by AmCham China\n\nJan 15, 2019 (9:00 AM - 5:00 PM)(GMT+8)\n\nFor more information, click here: https://amcham.glueup.cn/my/events/20051
LOCATION:naked Hub Sanlitun, Mandela Room - 5F - Gate 5 - Pacific Century Place - 2A Workers' Stadium North Road - 工体北路甲2号，盈科中心5号门5层裸心社 Beijing - Chaoyang District - China
BEGIN:VALARM
TRIGGER:-PT48H
REPEAT:4
DURATION:PT30M
ACTION:DISPLAY
END:VALARM
END:VEVENT
END:VCALENDAR