BEGIN:VCALENDAR
VERSION:2.0
PRODID:GlueUp
CALSCALE:GREGORIAN
BEGIN:VTIMEZONE
TZID:UTC
BEGIN:STANDARD
DTSTART:19700101T000000
TZOFFSETFROM:+0000
TZOFFSETTO:+0000
TZNAME:UTC
END:STANDARD
END:VTIMEZONE
BEGIN:VEVENT
TZ:+00
ORGANIZER;CN=Catherine Liu:MAILTO:cliu@amchamchina.org
UID:14971-1776890137@https://amcham.glueup.cn
DTSTAMP:20260422T203537Z
DTSTART:20180608T003000Z
DTEND:20180608T090000Z
SUMMARY:[Sold Out] 19th AmCham China Human Resources Conference
DESCRIPTION:[Sold Out] 19th AmCham China Human Resources Conference by AmCham China\n\nJun 8, 2018 (8:30 AM - 5:00 PM)(GMT+8)\n\nFor more information, click here: https://amcham.glueup.cn/my/events/14971
LOCATION:Grand Ballroom, Kempinski Hotel - 50 Liangmaqiao Rd. 100125 Beijing
BEGIN:VALARM
TRIGGER:-PT48H
REPEAT:4
DURATION:PT30M
ACTION:DISPLAY
END:VALARM
END:VEVENT
END:VCALENDAR