BEGIN:VCALENDAR
VERSION:2.0
PRODID:GlueUp
CALSCALE:GREGORIAN
BEGIN:VTIMEZONE
TZID:UTC
BEGIN:STANDARD
DTSTART:19700101T000000
TZOFFSETFROM:+0000
TZOFFSETTO:+0000
TZNAME:UTC
END:STANDARD
END:VTIMEZONE
BEGIN:VEVENT
TZ:+00
ORGANIZER;CN=AmCham China:MAILTO:amcham@amchamchina.org
UID:13638-1777048160@https://amcham.glueup.cn
DTSTAMP:20260424T162920Z
DTSTART:20180330T013000Z
DTEND:20180330T100000Z
SUMMARY:2018 Women Economy Summit
DESCRIPTION:2018 Women Economy Summit by AmCham China\n\nMar 30, 2018 (9:30 AM - 6:00 PM)(GMT+8)\n\nFor more information, click here: https://amcham.glueup.cn/my/events/13638
LOCATION:Beijing Marriott Hotel Northeast 北京海航大厦万豪酒店 - 26A Xiao Yun Road - Chaoyang District - Beijing - 北京市朝阳区霄云路甲26号 Beijing - Chaoyang District - China
BEGIN:VALARM
TRIGGER:-PT48H
REPEAT:4
DURATION:PT30M
ACTION:DISPLAY
END:VALARM
END:VEVENT
END:VCALENDAR