BEGIN:VCALENDAR
VERSION:2.0
PRODID:GlueUp
CALSCALE:GREGORIAN
BEGIN:VTIMEZONE
TZID:UTC
BEGIN:STANDARD
DTSTART:19700101T000000
TZOFFSETFROM:+0000
TZOFFSETTO:+0000
TZNAME:UTC
END:STANDARD
END:VTIMEZONE
BEGIN:VEVENT
TZ:+00
ORGANIZER;CN=YCISBJ:MAILTO:info@bj.ycef.com
UID:11971-1777151314@https://amcham.glueup.cn
DTSTAMP:20260425T210834Z
DTSTART:20171018T003000Z
DTEND:20171108T023000Z
SUMMARY:YCIS Beijing Active Parenting Workshop
DESCRIPTION:YCIS Beijing Active Parenting Workshop by AmCham China\n\nOct 18, 2017 to Nov 8, 2017(GMT+8)\n\nFor more information, click here: https://amcham.glueup.cn/my/events/11971
LOCATION:Honglingjin Park - No.5 Houbalizhuang - Chaoyang District 100025 Beijing - China
BEGIN:VALARM
TRIGGER:-PT48H
REPEAT:4
DURATION:PT30M
ACTION:DISPLAY
END:VALARM
END:VEVENT
END:VCALENDAR